BEGIN:VCALENDAR
VERSION:2.0
PRODID:-//BLUUM - ECPv6.15.20//NONSGML v1.0//EN
CALSCALE:GREGORIAN
METHOD:PUBLISH
X-ORIGINAL-URL:https://www.bluum.org
X-WR-CALDESC:Events for BLUUM
REFRESH-INTERVAL;VALUE=DURATION:PT1H
X-Robots-Tag:noindex
X-PUBLISHED-TTL:PT1H
BEGIN:VTIMEZONE
TZID:America/Boise
BEGIN:DAYLIGHT
TZOFFSETFROM:-0700
TZOFFSETTO:-0600
TZNAME:MDT
DTSTART:20230312T090000
END:DAYLIGHT
BEGIN:STANDARD
TZOFFSETFROM:-0600
TZOFFSETTO:-0700
TZNAME:MST
DTSTART:20231105T080000
END:STANDARD
BEGIN:DAYLIGHT
TZOFFSETFROM:-0700
TZOFFSETTO:-0600
TZNAME:MDT
DTSTART:20240310T090000
END:DAYLIGHT
BEGIN:STANDARD
TZOFFSETFROM:-0600
TZOFFSETTO:-0700
TZNAME:MST
DTSTART:20241103T080000
END:STANDARD
BEGIN:DAYLIGHT
TZOFFSETFROM:-0700
TZOFFSETTO:-0600
TZNAME:MDT
DTSTART:20250309T090000
END:DAYLIGHT
BEGIN:STANDARD
TZOFFSETFROM:-0600
TZOFFSETTO:-0700
TZNAME:MST
DTSTART:20251102T080000
END:STANDARD
END:VTIMEZONE
BEGIN:VEVENT
DTSTART;TZID=America/Boise:20240305T160000
DTEND;TZID=America/Boise:20240305T173000
DTSTAMP:20260425T101812
CREATED:20240305T185443Z
LAST-MODIFIED:20240517T180620Z
UID:31747-1709654400-1709659800@www.bluum.org
SUMMARY:HB422 "The Accelerating Public Charter Schools Act" Rewrite
DESCRIPTION:This is the first serious re-write of Idaho’s Public Charter School law since the law was first written in the late 1990s. The “Accelerating Public Charter Schools Act” seeks to “reward public charter schools that meet their accountability measures with enhanced autonomy and freedom from regulatory burden.” \nBluum and the Idaho Charter School Network have invited the Idaho Charter School Legal Expert\, attorney and friend Chris Yorgason to share what the Accelerating Public Charter Schools Act rewrite means for the state’s public charter schools and their efforts to educate students in the coming months and years. \n 
URL:https://www.bluum.org/event/hb422-rewrite/
LOCATION:Online Webinar
CATEGORIES:Professional Learning Opportunity
ORGANIZER;CN="Bluum":MAILTO:info@bluum.org
END:VEVENT
END:VCALENDAR