BEGIN:VCALENDAR
VERSION:2.0
PRODID:-//BLUUM - ECPv6.15.20//NONSGML v1.0//EN
CALSCALE:GREGORIAN
METHOD:PUBLISH
X-WR-CALNAME:BLUUM
X-ORIGINAL-URL:https://www.bluum.org
X-WR-CALDESC:Events for BLUUM
REFRESH-INTERVAL;VALUE=DURATION:PT1H
X-Robots-Tag:noindex
X-PUBLISHED-TTL:PT1H
BEGIN:VTIMEZONE
TZID:America/Boise
BEGIN:DAYLIGHT
TZOFFSETFROM:-0700
TZOFFSETTO:-0600
TZNAME:MDT
DTSTART:20180311T090000
END:DAYLIGHT
BEGIN:STANDARD
TZOFFSETFROM:-0600
TZOFFSETTO:-0700
TZNAME:MST
DTSTART:20181104T080000
END:STANDARD
BEGIN:DAYLIGHT
TZOFFSETFROM:-0700
TZOFFSETTO:-0600
TZNAME:MDT
DTSTART:20190310T090000
END:DAYLIGHT
BEGIN:STANDARD
TZOFFSETFROM:-0600
TZOFFSETTO:-0700
TZNAME:MST
DTSTART:20191103T080000
END:STANDARD
BEGIN:DAYLIGHT
TZOFFSETFROM:-0700
TZOFFSETTO:-0600
TZNAME:MDT
DTSTART:20200308T090000
END:DAYLIGHT
BEGIN:STANDARD
TZOFFSETFROM:-0600
TZOFFSETTO:-0700
TZNAME:MST
DTSTART:20201101T080000
END:STANDARD
END:VTIMEZONE
BEGIN:VEVENT
DTSTART;TZID=America/Boise:20190320T120000
DTEND;TZID=America/Boise:20190320T120000
DTSTAMP:20260420T075447
CREATED:20190515T161434Z
LAST-MODIFIED:20190515T161434Z
UID:7194-1553083200-1553083200@www.bluum.org
SUMMARY:Mandatory In-Person Applicant Training\, Post Falls
DESCRIPTION:In coordination with consortium partners\, Bluum will conduct in-person introductory Charter School Grant workshops across the state (in Boise\, Southeast Idaho\, and Northern Idaho) to announce the CSP grant\, to explain how to apply\, and to answer questions. Please see bluum.org/idaho-csp-grant to see if your school meets eligibility requirements. \n$748.10 (96.14%) of this event funded by Federal CSP Grant dollars; $30.00 (3.86%) of this event funded by Bluum; total cost $778.10
URL:https://www.bluum.org/event/mandatory-in-person-applicant-training-postfalls/
LOCATION:Hampton Inn\, Twin Falls\, 1658 Fillmore Street North\, Twin Falls\, ID\, 83301\, United States
CATEGORIES:Federal CSP-Technical Assistance
ORGANIZER;CN="Bluum Grants Team":MAILTO:grantscsp@bluum.org
END:VEVENT
END:VCALENDAR